BEGIN:VCALENDAR
VERSION:2.0
PRODID:-//Harrison County Lifelong Learning Center - ECPv6.15.20//NONSGML v1.0//EN
CALSCALE:GREGORIAN
METHOD:PUBLISH
X-WR-CALNAME:Harrison County Lifelong Learning Center
X-ORIGINAL-URL:https://www.harrisonlifelonglearning.com
X-WR-CALDESC:Events for Harrison County Lifelong Learning Center
REFRESH-INTERVAL;VALUE=DURATION:PT1H
X-Robots-Tag:noindex
X-PUBLISHED-TTL:PT1H
BEGIN:VTIMEZONE
TZID:America/Toronto
BEGIN:DAYLIGHT
TZOFFSETFROM:-0500
TZOFFSETTO:-0400
TZNAME:EDT
DTSTART:20210314T070000
END:DAYLIGHT
BEGIN:STANDARD
TZOFFSETFROM:-0400
TZOFFSETTO:-0500
TZNAME:EST
DTSTART:20211107T060000
END:STANDARD
BEGIN:DAYLIGHT
TZOFFSETFROM:-0500
TZOFFSETTO:-0400
TZNAME:EDT
DTSTART:20220313T070000
END:DAYLIGHT
BEGIN:STANDARD
TZOFFSETFROM:-0400
TZOFFSETTO:-0500
TZNAME:EST
DTSTART:20221106T060000
END:STANDARD
BEGIN:DAYLIGHT
TZOFFSETFROM:-0500
TZOFFSETTO:-0400
TZNAME:EDT
DTSTART:20230312T070000
END:DAYLIGHT
BEGIN:STANDARD
TZOFFSETFROM:-0400
TZOFFSETTO:-0500
TZNAME:EST
DTSTART:20231105T060000
END:STANDARD
END:VTIMEZONE
BEGIN:VEVENT
DTSTART;VALUE=DATE:20220704
DTEND;VALUE=DATE:20220705
DTSTAMP:20260424T115756
CREATED:20220628T133513Z
LAST-MODIFIED:20220628T133513Z
UID:13642-1656892800-1656979199@www.harrisonlifelonglearning.com
SUMMARY:HCLL CLOSED
DESCRIPTION:
URL:https://www.harrisonlifelonglearning.com/event/hcll-closed-3/
END:VEVENT
BEGIN:VEVENT
DTSTART;TZID=America/Toronto:20220715T100000
DTEND;TZID=America/Toronto:20220715T130000
DTSTAMP:20260424T115756
CREATED:20220628T133955Z
LAST-MODIFIED:20220628T133955Z
UID:13645-1657879200-1657890000@www.harrisonlifelonglearning.com
SUMMARY:HiSET Test Registration- New Albany
DESCRIPTION:
URL:https://www.harrisonlifelonglearning.com/event/hiset-test-registration-new-albany-5/
LOCATION:River Valley Resources- Anchor Bldg\, 800 E. 8th Street\, New Albany\, IN\, 47150
END:VEVENT
BEGIN:VEVENT
DTSTART;TZID=America/Toronto:20220715T100000
DTEND;TZID=America/Toronto:20220715T160000
DTSTAMP:20260424T115756
CREATED:20220701T145721Z
LAST-MODIFIED:20220701T151501Z
UID:13650-1657879200-1657900800@www.harrisonlifelonglearning.com
SUMMARY:CPR/First Aid Heart Saver Training
DESCRIPTION:
URL:https://www.harrisonlifelonglearning.com/event/cpr-heartsaver-training/
END:VEVENT
BEGIN:VEVENT
DTSTART;TZID=America/Toronto:20220721T090000
DTEND;TZID=America/Toronto:20220721T130000
DTSTAMP:20260424T115756
CREATED:20220628T133627Z
LAST-MODIFIED:20220628T133627Z
UID:13644-1658394000-1658408400@www.harrisonlifelonglearning.com
SUMMARY:HiSET Testing
DESCRIPTION:
URL:https://www.harrisonlifelonglearning.com/event/hiset-testing-7/
END:VEVENT
BEGIN:VEVENT
DTSTART;TZID=America/Toronto:20220722T090000
DTEND;TZID=America/Toronto:20220722T130000
DTSTAMP:20260424T115756
CREATED:20220628T133701Z
LAST-MODIFIED:20220628T133701Z
UID:13643-1658480400-1658494800@www.harrisonlifelonglearning.com
SUMMARY:HiSET Testing
DESCRIPTION:
URL:https://www.harrisonlifelonglearning.com/event/hiset-testing-8/
END:VEVENT
END:VCALENDAR