BEGIN:VCALENDAR
VERSION:2.0
PRODID:-//Harrison County Lifelong Learning Center - ECPv6.15.20//NONSGML v1.0//EN
CALSCALE:GREGORIAN
METHOD:PUBLISH
X-WR-CALNAME:Harrison County Lifelong Learning Center
X-ORIGINAL-URL:https://www.harrisonlifelonglearning.com
X-WR-CALDESC:Events for Harrison County Lifelong Learning Center
REFRESH-INTERVAL;VALUE=DURATION:PT1H
X-Robots-Tag:noindex
X-PUBLISHED-TTL:PT1H
BEGIN:VTIMEZONE
TZID:America/Toronto
BEGIN:DAYLIGHT
TZOFFSETFROM:-0500
TZOFFSETTO:-0400
TZNAME:EDT
DTSTART:20250309T070000
END:DAYLIGHT
BEGIN:STANDARD
TZOFFSETFROM:-0400
TZOFFSETTO:-0500
TZNAME:EST
DTSTART:20251102T060000
END:STANDARD
BEGIN:DAYLIGHT
TZOFFSETFROM:-0500
TZOFFSETTO:-0400
TZNAME:EDT
DTSTART:20260308T070000
END:DAYLIGHT
BEGIN:STANDARD
TZOFFSETFROM:-0400
TZOFFSETTO:-0500
TZNAME:EST
DTSTART:20261101T060000
END:STANDARD
BEGIN:DAYLIGHT
TZOFFSETFROM:-0500
TZOFFSETTO:-0400
TZNAME:EDT
DTSTART:20270314T070000
END:DAYLIGHT
BEGIN:STANDARD
TZOFFSETFROM:-0400
TZOFFSETTO:-0500
TZNAME:EST
DTSTART:20271107T060000
END:STANDARD
END:VTIMEZONE
BEGIN:VEVENT
DTSTART;TZID=America/Toronto:20260421T083000
DTEND;TZID=America/Toronto:20260421T163000
DTSTAMP:20260421T071538
CREATED:20260120T175147Z
LAST-MODIFIED:20260120T175531Z
UID:17969-1776760200-1776789000@www.harrisonlifelonglearning.com
SUMMARY:So. Indiana Works
DESCRIPTION:
URL:https://www.harrisonlifelonglearning.com/event/so-indiana-works/2026-04-21/
END:VEVENT
BEGIN:VEVENT
DTSTART;TZID=America/Toronto:20260421T170000
DTEND;TZID=America/Toronto:20260421T190000
DTSTAMP:20260421T071538
CREATED:20260120T174856Z
LAST-MODIFIED:20260120T174856Z
UID:17825-1776790800-1776798000@www.harrisonlifelonglearning.com
SUMMARY:Adult Education- Night
DESCRIPTION:
URL:https://www.harrisonlifelonglearning.com/event/adult-education-night/2026-04-21/
END:VEVENT
END:VCALENDAR